BEGIN:VCALENDAR
VERSION:2.0
PRODID:-//wp-events-plugin.com//7.2.3.1//EN
BEGIN:VEVENT
UID:12@threewisemonkeyscolchester.com
DTSTART;TZID=Europe/London:20260307T193000
DTEND;TZID=Europe/London:20260307T234500
DTSTAMP:20260216T112248Z
URL:https://threewisemonkeyscolchester.com/events/artificial-monkeys-arcti
 c-monkeys-tribute/
SUMMARY:Artificial Monkeys (Arctic Monkeys Tribute)
DESCRIPTION:\n\n\ndocument.addEventListener('DOMContentLoaded'\, function(e
 vent) {\n    TCWidget.createWidget({\n        iframeContainerId: 'tc-conta
 iner-iframe-14003'\,\n        iframeUrl: '//ticketscandy.com/e/14003/embed
 '\n    })\;\n})\;\n\n\nJoin us for a night of Arctic Monkeys Tribute! Get 
 ready for an unforgettable evening as the Artificial Monkeys take the stag
 e! This talented quartet of experienced musicians is dedicated to bringing
  you the authentic sound and electrifying performance of the Arctic Monkey
 s. Known for their energetic shows\, the Artificial Monkeys deliver a note
 -for-note reproduction of iconic hits like “Do I Wanna Know?”\, “I B
 et You Look Good on the Dancefloor\,” “When the Sun Goes Down\,” and
  many more.\n\nDon’t miss your chance to experience the excitement of li
 ve music with a band that captures the essence of one of the UK’s most b
 eloved rock groups!\n\nDoors Open: 7:30 PM\n\nLocation: Three Wise Monkeys
  Top Floor\n\nTickets: £10 + booking fee\n\nGrab your tickets now and get
  ready to dance the night away!\n\nPlease note that access to the top floo
 r of Three Wise Monkeys does not have a lift\, but there are rest opportun
 ities between each flight of stairs.\n\nViewer discretion is advised: This
  show may potentially contain flashing and strobing lighting effects.\n\nW
 e wanted to inform you of our refund policy regarding event tickets. Pleas
 e note that we will be unable to process any ticket refunds within 7 days 
 of the event. We understand that circumstances may arise that prevent you 
 from attending the event\, but unfortunately\, we are unable to accommodat
 e refund requests within this timeframe.
ATTACH;FMTTYPE=image/jpeg:https://threewisemonkeyscolchester.com/wp-conten
 t/uploads/2026/02/TWMC-ARTIFICIAL-MONKEYS-7-3-26-02-scaled.png
END:VEVENT
BEGIN:VTIMEZONE
TZID:Europe/London
X-LIC-LOCATION:Europe/London
BEGIN:STANDARD
DTSTART:20251026T010000
TZOFFSETFROM:+0100
TZOFFSETTO:+0000
TZNAME:GMT
END:STANDARD
END:VTIMEZONE
END:VCALENDAR