BEGIN:VCALENDAR
VERSION:2.0
PRODID:-//wp-events-plugin.com//7.2.3.1//EN
BEGIN:VEVENT
UID:53@threewisemonkeyscolchester.com
DTSTART;TZID=Europe/London:20260410T193000
DTEND;TZID=Europe/London:20260410T234500
DTSTAMP:20260217T124828Z
URL:https://threewisemonkeyscolchester.com/events/dean-frost-full-band/
SUMMARY:Dean Frost + Full Band!
DESCRIPTION:\n\n\ndocument.addEventListener('DOMContentLoaded'\, function(e
 vent) {\n    TCWidget.createWidget({\n        iframeContainerId: 'tc-conta
 iner-iframe-15785'\,\n        iframeUrl: '//ticketscandy.com/e/15785/embed
 '\n    })\;\n})\;\n\n\nGet ready for an unforgettable night of live music 
 as Dean Frost takes the stage for his “Two Minds” EP release show with
  his full band!\n\nJoining the lineup are:\n\nLes Joy.\n\nKitty Perrin\n\n
 Date: Friday 10th April\n\nTime: Doors open at 7:30\n\nVenue: Top Floor\, 
 Three Wise Monkeys\, Colchester\n\nTickets: £10 + booking fee\n\nOver 18
 ’s Only. We operate a strict challenge 25 policy \, so please bring ID.\
 n\nAccessibility Information:\n\nPlease note that access to the top floor 
 of Three Wise Monkeys does not have a lift\, but there are rest opportunit
 ies between each flight of stairs\n\nViewer Discretion:\n\nPlease be aware
  that this event may feature flashing and strobing lighting effects.
ATTACH;FMTTYPE=image/jpeg:https://threewisemonkeyscolchester.com/wp-conten
 t/uploads/2026/02/Dean-Frost-02-scaled.png
END:VEVENT
BEGIN:VTIMEZONE
TZID:Europe/London
X-LIC-LOCATION:Europe/London
BEGIN:DAYLIGHT
DTSTART:20260329T020000
TZOFFSETFROM:+0000
TZOFFSETTO:+0100
TZNAME:BST
END:DAYLIGHT
END:VTIMEZONE
END:VCALENDAR