BEGIN:VCALENDAR
VERSION:2.0
PRODID:-//wp-events-plugin.com//7.2.3.1//EN
BEGIN:VEVENT
UID:42@threewisemonkeyscolchester.com
DTSTART;TZID=Europe/London:20260606T193000
DTEND;TZID=Europe/London:20260606T234500
DTSTAMP:20260216T132831Z
URL:https://threewisemonkeyscolchester.com/events/dookie-uk-green-day-trib
 ute/
SUMMARY:Dookie - UK Green Day Tribute
DESCRIPTION:\n\n\ndocument.addEventListener('DOMContentLoaded'\, function(e
 vent) {\n    TCWidget.createWidget({\n        iframeContainerId: 'tc-conta
 iner-iframe-15427'\,\n        iframeUrl: '//ticketscandy.com/e/15427/embed
 '\n    })\;\n})\;\n\n\nTWM Live presents Dookie\, the UK’s longest runni
 ng tribute to Green Day\, returning for a 90-minute set of pure hits at Th
 ree Wise Monkeys\, Colchester.\n\nSupporting is Blinked 182\, playing all 
 the classics.\n\nDate: 6 June\n\nVenue: Three Wise Monkeys\, Colchester\n\
 nTickets: £15\n\nDoors: 7:30pm\n\nAges: 18+\n\nPlease note that access to
  the top floor of Three Wise Monkeys does not have a lift\, but there are 
 rest opportunities between each flight of stairs.\n\nViewer discretion is 
 advised: This show may potentially contain flashing and strobing lighting 
 effects.\n\nRefund policy: We are unable to process any ticket refunds wit
 hin 7 days of the event.
ATTACH;FMTTYPE=image/jpeg:https://threewisemonkeyscolchester.com/wp-conten
 t/uploads/2026/02/dookie.jpeg
END:VEVENT
BEGIN:VTIMEZONE
TZID:Europe/London
X-LIC-LOCATION:Europe/London
BEGIN:DAYLIGHT
DTSTART:20260329T020000
TZOFFSETFROM:+0000
TZOFFSETTO:+0100
TZNAME:BST
END:DAYLIGHT
END:VTIMEZONE
END:VCALENDAR