BEGIN:VCALENDAR
VERSION:2.0
PRODID:-//wp-events-plugin.com//7.2.3.1//EN
BEGIN:VEVENT
UID:19@threewisemonkeyscolchester.com
DTSTART;TZID=Europe/London:20260321T190000
DTEND;TZID=Europe/London:20260321T230000
DTSTAMP:20260216T120850Z
URL:https://threewisemonkeyscolchester.com/events/emilia-quinn-with-specia
 l-guests-the-jackson-line/
SUMMARY:Emilia Quinn with special guests The Jackson Line
DESCRIPTION:Book Now \n\nEmilia Quinn brings her full band to Essex for the
  first time heading to Three Wise Monkeys with support from The Jackson Li
 ne.\n\nEmilia Quinn is a dynamic UK-based musician and singer-songwriter k
 nown for her raw\, soulful voice and genre-blending sound that fuses Ameri
 cana\, Country\, and Blues Rock influences. With a background in classical
  training and a passion for storytelling\, Emilia creates emotionally char
 ged music that resonates deeply with her listeners. Her powerful vocals an
 d honest lyricism explore themes of love\, resilience\, and self-discovery
 \, earning her recognition in both the British and international music sce
 nes.\n\nEmilia’s career began in grassroots venues\, but her unique blen
 d of styles quickly caught attention\, leading her to perform at major fes
 tivals like Country2Country\, The Long Road\, Black Deer and share the sta
 ge with prominent artists. Her British CMA Award nominated debut album 'Wa
 nderlust &amp\;amp\; Breaking Rules" (2023)\, showcases her versatile tale
 nt\, combining heartfelt ballads with upbeat\, fiery tracks. Known for her
  captivating live performances\, Emilia's on-stage energy and authenticity
  have solidified her reputation as a rising star in the indie Country and 
 Americana scene.
ATTACH;FMTTYPE=image/jpeg:https://threewisemonkeyscolchester.com/wp-conten
 t/uploads/2026/02/emilia.jpeg
END:VEVENT
BEGIN:VTIMEZONE
TZID:Europe/London
X-LIC-LOCATION:Europe/London
BEGIN:STANDARD
DTSTART:20251026T010000
TZOFFSETFROM:+0100
TZOFFSETTO:+0000
TZNAME:GMT
END:STANDARD
END:VTIMEZONE
END:VCALENDAR