BEGIN:VCALENDAR
VERSION:2.0
PRODID:-//wp-events-plugin.com//7.2.3.1//EN
BEGIN:VEVENT
UID:67@threewisemonkeyscolchester.com
DTSTART;TZID=Europe/London:20261003T193000
DTEND;TZID=Europe/London:20261003T234500
DTSTAMP:20260403T153633Z
URL:https://threewisemonkeyscolchester.com/events/motley-screw-europes-num
 ber-1-tribute-to-motley-crue/
SUMMARY:Motley Screw - Europe’s Number 1 Tribute to Mötley Crüe
DESCRIPTION:\n\n\ndocument.addEventListener('DOMContentLoaded'\, function(e
 vent) {\n    TCWidget.createWidget({\n        iframeContainerId: 'tc-conta
 iner-iframe-16970'\,\n        iframeUrl: '//ticketscandy.com/e/16970/embed
 '\n    })\;\n})\;\n\n\nTWM Live presents Motley Screw\, Europe’s Number 
 1 tribute to Mötley Crüe\, performing live at Three Wise Monkeys\, Colch
 ester.\n\nMotley Screw deliver the full Mötley Crüe experience\, bringin
 g the energy\, attitude and iconic sound of one of rock’s most legendary
  bands to the stage. Expect all the classic hits\, from Kickstart My Heart
  to Girls\, Girls\, Girls\, performed with the look\, feel and electrifyin
 g presence that defined a generation of glam metal.\n\nDate: 3rd October\n
 \nVenue: Three Wise Monkeys\, Colchester\n\nTickets: £14.50\n\nDoors: 7:3
 0pm\n\nAges: 18+\n\nPlease note that access to the top floor of Three Wise
  Monkeys does not have a lift\, but there are rest opportunities between e
 ach flight of stairs.\n\nViewer discretion is advised: This show may poten
 tially contain flashing and strobing lighting effects.\n\nRefund policy: W
 e are unable to process any ticket refunds within 7 days of the event.
ATTACH;FMTTYPE=image/jpeg:https://threewisemonkeyscolchester.com/wp-conten
 t/uploads/2026/04/Motley-Screw-3-10-26-02-scaled.png
END:VEVENT
BEGIN:VTIMEZONE
TZID:Europe/London
X-LIC-LOCATION:Europe/London
BEGIN:DAYLIGHT
DTSTART:20260329T020000
TZOFFSETFROM:+0000
TZOFFSETTO:+0100
TZNAME:BST
END:DAYLIGHT
END:VTIMEZONE
END:VCALENDAR