BEGIN:VCALENDAR
VERSION:2.0
PRODID:-//wp-events-plugin.com//7.2.3.1//EN
BEGIN:VEVENT
UID:38@threewisemonkeyscolchester.com
DTSTART;TZID=Europe/London:20260515T193000
DTEND;TZID=Europe/London:20260515T234500
DTSTAMP:20260216T125927Z
URL:https://threewisemonkeyscolchester.com/events/the-busted-experience-bu
 sted-tribute/
SUMMARY:The Busted Experience (Busted Tribute)
DESCRIPTION:\n\n\ndocument.addEventListener('DOMContentLoaded'\, function(e
 vent) {\n    TCWidget.createWidget({\n        iframeContainerId: 'tc-conta
 iner-iframe-14266'\,\n        iframeUrl: '//ticketscandy.com/e/14266/embed
 '\n    })\;\n})\;\n\n\nTWM Live presents The Busted Experience\, a high-en
 ergy tribute band dedicated to capturing the sound\, style\, and spirit of
  BUSTED\, live at Three Wise Monkeys\, Colchester.\n\nDate: Friday 15th Ma
 y\n\nVenue: Three Wise Monkeys\, Colchester\n\nTickets: £12\n\nDoors: 7:3
 0pm\n\nAges: 18+\n\n&nbsp\;\n\nPlease note that access to the top floor of
  Three Wise Monkeys does not have a lift\, but there are rest opportunitie
 s between each flight of stairs.\n\nViewer discretion is advised: This sho
 w may potentially contain flashing and strobing lighting effects.\n\nWe wa
 nted to inform you of our refund policy regarding event tickets. Please no
 te that we will be unable to process any ticket refunds within 7 days of t
 he event.\n\nWe understand that circumstances may arise that prevent you f
 rom attending the event\, but unfortunately\, we are unable to accommodate
  refund requests within this timeframe.
ATTACH;FMTTYPE=image/jpeg:https://threewisemonkeyscolchester.com/wp-conten
 t/uploads/2026/02/busted-experience.jpeg
END:VEVENT
BEGIN:VTIMEZONE
TZID:Europe/London
X-LIC-LOCATION:Europe/London
BEGIN:DAYLIGHT
DTSTART:20260329T020000
TZOFFSETFROM:+0000
TZOFFSETTO:+0100
TZNAME:BST
END:DAYLIGHT
END:VTIMEZONE
END:VCALENDAR