BEGIN:VCALENDAR
VERSION:2.0
PRODID:-//wp-events-plugin.com//7.2.3.1//EN
BEGIN:VEVENT
UID:23@threewisemonkeyscolchester.com
DTSTART;TZID=Europe/London:20260402T190000
DTEND;TZID=Europe/London:20260402T234500
DTSTAMP:20260216T122004Z
URL:https://threewisemonkeyscolchester.com/events/to-obey-a-tyrant-ruins-o
 f-perception-in-colchester-on-the-tyrannical-perception-tour-2026/
SUMMARY:TO OBEY A TYRANT + RUINS OF PERCEPTION IN COLCHESTER ON THE TYRANNI
 CAL PERCEPTION TOUR 2026
DESCRIPTION:Book Now\n\nCOLCHESTER: Dead Species UK and Timeframe Booking p
 resent: TO OBEY A TYRANT and RUINS OF PERCEPTION - cruising over the UK wi
 th a Deathcore display to be sickened by. The most impressive and intense 
 bands in the genre join forces after a huge European tour to bring 9 dates
  of pure evil to the United Kingdom.
ATTACH;FMTTYPE=image/jpeg:https://threewisemonkeyscolchester.com/wp-conten
 t/uploads/2026/02/obay.jpeg
END:VEVENT
BEGIN:VTIMEZONE
TZID:Europe/London
X-LIC-LOCATION:Europe/London
BEGIN:DAYLIGHT
DTSTART:20260329T020000
TZOFFSETFROM:+0000
TZOFFSETTO:+0100
TZNAME:BST
END:DAYLIGHT
END:VTIMEZONE
END:VCALENDAR