BEGIN:VCALENDAR
VERSION:2.0
PRODID:-//wp-events-plugin.com//7.2.3.1//EN
BEGIN:VEVENT
UID:22@threewisemonkeyscolchester.com
DTSTART;TZID=Europe/London:20260328T190000
DTEND;TZID=Europe/London:20260328T230000
DTSTAMP:20260216T121742Z
URL:https://threewisemonkeyscolchester.com/events/xslf-henry-cluneys-band-
 live/
SUMMARY:XSLF...Henry Cluneys' band LIVE
DESCRIPTION:Book Now \n\nPlaying the Three Wise Monkeys\, Colchester for th
 e first time…Founding Stiff Little Fingers' member Henry Cluney brings h
 is band XSLF to the venue.\n\nHenry formed XSLF in 2013 with former SLF dr
 ummer Jim Reilly\, although Jim (on the advice of his doctor) had to leave
  the band in 2021 and drumming duties are now taken care of by Glenn Kings
 more (also drummer for legendary Belfast band The Defects). Ave Tsarion (a
 lso of The Defects) completes the line up on bass and XSLF continue to bri
 ng fans a set of greats from SLF’s first three albums.\n\nSupported by s
 kanksters Jack the lad\, Granthams own Under the Cosh &amp\; locals Blende
 rhead…4 great bands…this is a nights entertainment you don’t want to
  miss!!!\n\nAll for a £12 ticket in advance\n\nSaturday 28th March\, 2026
 \n\nDoor time: 7:00pm
ATTACH;FMTTYPE=image/jpeg:https://threewisemonkeyscolchester.com/wp-conten
 t/uploads/2026/02/XSLF.jpeg
END:VEVENT
BEGIN:VTIMEZONE
TZID:Europe/London
X-LIC-LOCATION:Europe/London
BEGIN:STANDARD
DTSTART:20251026T010000
TZOFFSETFROM:+0100
TZOFFSETTO:+0000
TZNAME:GMT
END:STANDARD
END:VTIMEZONE
END:VCALENDAR